BEGIN:VCALENDAR
VERSION:2.0
PRODID:-//Frielinghaus Ensemble - ECPv6.15.11//NONSGML v1.0//EN
CALSCALE:GREGORIAN
METHOD:PUBLISH
X-ORIGINAL-URL:https://frielinghaus-ensemble.de
X-WR-CALDESC:Veranstaltungen für Frielinghaus Ensemble
REFRESH-INTERVAL;VALUE=DURATION:PT1H
X-Robots-Tag:noindex
X-PUBLISHED-TTL:PT1H
BEGIN:VTIMEZONE
TZID:Europe/Berlin
BEGIN:DAYLIGHT
TZOFFSETFROM:+0100
TZOFFSETTO:+0200
TZNAME:CEST
DTSTART:20240331T010000
END:DAYLIGHT
BEGIN:STANDARD
TZOFFSETFROM:+0200
TZOFFSETTO:+0100
TZNAME:CET
DTSTART:20241027T010000
END:STANDARD
BEGIN:DAYLIGHT
TZOFFSETFROM:+0100
TZOFFSETTO:+0200
TZNAME:CEST
DTSTART:20250330T010000
END:DAYLIGHT
BEGIN:STANDARD
TZOFFSETFROM:+0200
TZOFFSETTO:+0100
TZNAME:CET
DTSTART:20251026T010000
END:STANDARD
BEGIN:DAYLIGHT
TZOFFSETFROM:+0100
TZOFFSETTO:+0200
TZNAME:CEST
DTSTART:20260329T010000
END:DAYLIGHT
BEGIN:STANDARD
TZOFFSETFROM:+0200
TZOFFSETTO:+0100
TZNAME:CET
DTSTART:20261025T010000
END:STANDARD
BEGIN:DAYLIGHT
TZOFFSETFROM:+0100
TZOFFSETTO:+0200
TZNAME:CEST
DTSTART:20270328T010000
END:DAYLIGHT
BEGIN:STANDARD
TZOFFSETFROM:+0200
TZOFFSETTO:+0100
TZNAME:CET
DTSTART:20271031T010000
END:STANDARD
END:VTIMEZONE
BEGIN:VEVENT
DTSTART;TZID=Europe/Berlin:20260222T170000
DTEND;TZID=Europe/Berlin:20260222T180000
DTSTAMP:20260420T150735
CREATED:20251124T140859Z
LAST-MODIFIED:20251124T140912Z
UID:648-1771779600-1771783200@frielinghaus-ensemble.de
SUMMARY:Bern (CH)
DESCRIPTION:Richard Strauss Streichsextett aus der Oper Capriccio (1941)\nJohannes Brahms Streichsextett G-Dur\, op. 36 (1864/65) \nElfenau Park
URL:https://frielinghaus-ensemble.de/event/bern-ch-4/
CATEGORIES:Konzert
END:VEVENT
BEGIN:VEVENT
DTSTART;TZID=Europe/Berlin:20260221T170000
DTEND;TZID=Europe/Berlin:20260221T180000
DTSTAMP:20260420T150735
CREATED:20251124T140827Z
LAST-MODIFIED:20251124T140827Z
UID:646-1771693200-1771696800@frielinghaus-ensemble.de
SUMMARY:Bern (CH)
DESCRIPTION:Richard Strauss Streichsextett aus der Oper Capriccio (1941)\nArnold Schönberg »Verklärte Nacht« op. 4\, Streichsextett nach dem gleichnamigen Gedicht von Richard Dehmel (1899) \nElfenau Park
URL:https://frielinghaus-ensemble.de/event/bern-ch-3/
CATEGORIES:Konzert
END:VEVENT
BEGIN:VEVENT
DTSTART;TZID=Europe/Berlin:20260220T173000
DTEND;TZID=Europe/Berlin:20260220T183000
DTSTAMP:20260420T150735
CREATED:20251124T140655Z
LAST-MODIFIED:20251124T140655Z
UID:644-1771608600-1771612200@frielinghaus-ensemble.de
SUMMARY:Ittigen (CH)
DESCRIPTION:Arnold Schönberg »Verklärte Nacht« op. 4\, Streichsextett nach dem gleichnamigen Gedicht von Richard Dehmel (1899)\nJohannes Brahms Streichsextett G-Dur\, op. 36 (1864/65) – Ausschnitte – \nTalgut
URL:https://frielinghaus-ensemble.de/event/ittigen-ch-2/
CATEGORIES:Konzert
END:VEVENT
BEGIN:VEVENT
DTSTART;TZID=Europe/Berlin:20260217T200000
DTEND;TZID=Europe/Berlin:20260217T220000
DTSTAMP:20260420T150735
CREATED:20251124T140302Z
LAST-MODIFIED:20251124T140302Z
UID:640-1771358400-1771365600@frielinghaus-ensemble.de
SUMMARY:La Punt (CH)
DESCRIPTION:Richard Strauss Streichsextett aus der Oper Capriccio (1941)\nArnold Schönberg »Verklärte Nacht« op. 4\, Streichsextett nach dem gleichnamigen Gedicht von Richard Dehmel (1899)\nJohannes Brahms Streichsextett G-Dur\, op. 36 (1864/65) \nTirolerkirchlein \nEintritt frei – Spenden erbeten
URL:https://frielinghaus-ensemble.de/event/la-punt-ch-2/
CATEGORIES:Konzert
END:VEVENT
BEGIN:VEVENT
DTSTART;TZID=Europe/Berlin:20260215T170000
DTEND;TZID=Europe/Berlin:20260215T190000
DTSTAMP:20260420T150735
CREATED:20251124T140434Z
LAST-MODIFIED:20251124T140434Z
UID:642-1771174800-1771182000@frielinghaus-ensemble.de
SUMMARY:Sent (CH)
DESCRIPTION:Richard Strauss Streichsextett aus der Oper Capriccio (1941)\nArnold Schönberg »Verklärte Nacht« op. 4\, Streichsextett nach dem gleichnamigen Gedicht von Richard Dehmel (1899)\nJohannes Brahms Streichsextett G-Dur\, op. 36 (1864/65) \nKirche
URL:https://frielinghaus-ensemble.de/event/sent-ch-2/
CATEGORIES:Konzert
END:VEVENT
BEGIN:VEVENT
DTSTART;TZID=Europe/Berlin:20260111T160000
DTEND;TZID=Europe/Berlin:20260111T180000
DTSTAMP:20260420T150735
CREATED:20251124T135654Z
LAST-MODIFIED:20251124T135654Z
UID:638-1768147200-1768154400@frielinghaus-ensemble.de
SUMMARY:Hechingen
DESCRIPTION:Richard Strauss Streichsextett aus der Oper Capriccio (1941)\nArnold Schönberg »Verklärte Nacht« op. 4\, Streichsextett nach dem gleichnamigen Gedicht von Richard Dehmel (1899)\nJohannes Brahms Streichsextett G-Dur\, op. 36 (1864/65) \nAlte Synagoge
URL:https://frielinghaus-ensemble.de/event/hechingen-4/
CATEGORIES:Konzert
END:VEVENT
BEGIN:VEVENT
DTSTART;TZID=Europe/Berlin:20260110T190000
DTEND;TZID=Europe/Berlin:20260110T210000
DTSTAMP:20260420T150735
CREATED:20251124T135534Z
LAST-MODIFIED:20251124T135534Z
UID:636-1768071600-1768078800@frielinghaus-ensemble.de
SUMMARY:Stuttgart
DESCRIPTION:Richard Strauss Streichsextett aus der Oper Capriccio (1941)\nArnold Schönberg »Verklärte Nacht« op. 4\, Streichsextett nach dem gleichnamigen Gedicht von Richard Dehmel (1899)\nJohannes Brahms Streichsextett G-Dur\, op. 36 (1864/65) \nLukaskirche \nEintritt frei\, Spenden erbeten
URL:https://frielinghaus-ensemble.de/event/stuttgart-4/
CATEGORIES:Konzert
END:VEVENT
BEGIN:VEVENT
DTSTART;TZID=Europe/Berlin:20260109T190000
DTEND;TZID=Europe/Berlin:20260109T190000
DTSTAMP:20260420T150735
CREATED:20251124T135342Z
LAST-MODIFIED:20251124T135342Z
UID:634-1767985200-1767985200@frielinghaus-ensemble.de
SUMMARY:Koblenz
DESCRIPTION:Richard Strauss Streichsextett aus der Oper Capriccio (1941)\nArnold Schönberg »Verklärte Nacht« op. 4\, Streichsextett nach dem gleichnamigen Gedicht von Richard Dehmel (1899)\nJohannes Brahms Streichsextett G-Dur\, op. 36 (1864/65) \nEv. Dreifaltigkeitshaus Koblenz
URL:https://frielinghaus-ensemble.de/event/koblenz/
CATEGORIES:Konzert
END:VEVENT
BEGIN:VEVENT
DTSTART;TZID=Europe/Berlin:20260107T193000
DTEND;TZID=Europe/Berlin:20260107T213000
DTSTAMP:20260420T150735
CREATED:20251124T134913Z
LAST-MODIFIED:20251124T134913Z
UID:632-1767814200-1767821400@frielinghaus-ensemble.de
SUMMARY:Bremen
DESCRIPTION:Richard Strauss Streichsextett aus der Oper Capriccio (1941)\nArnold Schönberg »Verklärte Nacht« op. 4\, Streichsextett nach dem gleichnamigen Gedicht von Richard Dehmel (1899)\nJohannes Brahms Streichsextett G-Dur\, op. 36 (1864/65) \nSendesaal Bremen
URL:https://frielinghaus-ensemble.de/event/bremen-3/
CATEGORIES:Konzert
END:VEVENT
BEGIN:VEVENT
DTSTART;TZID=Europe/Berlin:20260104T160000
DTEND;TZID=Europe/Berlin:20260104T180000
DTSTAMP:20260420T150735
CREATED:20251124T134802Z
LAST-MODIFIED:20251124T134802Z
UID:630-1767542400-1767549600@frielinghaus-ensemble.de
SUMMARY:Travemünde
DESCRIPTION:Richard Strauss Streichsextett aus der Oper Capriccio (1941)\nArnold Schönberg »Verklärte Nacht« op. 4\, Streichsextett nach dem gleichnamigen Gedicht von Richard Dehmel (1899)\nJohannes Brahms Streichsextett G-Dur\, op. 36 (1864/65) \nAtlantic Grand Hotel
URL:https://frielinghaus-ensemble.de/event/travemuende-4/
CATEGORIES:Konzert
END:VEVENT
BEGIN:VEVENT
DTSTART;TZID=Europe/Berlin:20260103T193000
DTEND;TZID=Europe/Berlin:20260103T213000
DTSTAMP:20260420T150735
CREATED:20251124T134505Z
LAST-MODIFIED:20251124T134505Z
UID:628-1767468600-1767475800@frielinghaus-ensemble.de
SUMMARY:Hamburg
DESCRIPTION:Richard Strauss Streichsextett aus der Oper Capriccio (1941)\nArnold Schönberg »Verklärte Nacht« op. 4\, Streichsextett nach dem gleichnamigen Gedicht von Richard Dehmel (1899)\nJohannes Brahms Streichsextett G-Dur\, op. 36 (1864/65) \nElbphilharmonie Hamburg (kl. Saal)
URL:https://frielinghaus-ensemble.de/event/hamburg-6/
CATEGORIES:Konzert
END:VEVENT
BEGIN:VEVENT
DTSTART;TZID=Europe/Berlin:20260102T170000
DTEND;TZID=Europe/Berlin:20260102T190000
DTSTAMP:20260420T150735
CREATED:20251124T134214Z
LAST-MODIFIED:20251124T134214Z
UID:626-1767373200-1767380400@frielinghaus-ensemble.de
SUMMARY:Heikendorf
DESCRIPTION:Richard Strauss Streichsextett aus der Oper Capriccio (1941)\nArnold Schönberg »Verklärte Nacht« op. 4\, Streichsextett nach dem gleichnamigen Gedicht von Richard Dehmel (1899)\nJohannes Brahms Streichsextett G-Dur\, op. 36 (1864/65) \nHeikendorf\, Offene Ganztagsschule
URL:https://frielinghaus-ensemble.de/event/heikendorf-4/
CATEGORIES:Konzert
END:VEVENT
BEGIN:VEVENT
DTSTART;TZID=Europe/Berlin:20260101T193000
DTEND;TZID=Europe/Berlin:20260101T213000
DTSTAMP:20260420T150735
CREATED:20251124T133846Z
LAST-MODIFIED:20251124T134018Z
UID:623-1767295800-1767303000@frielinghaus-ensemble.de
SUMMARY:Hanstedt
DESCRIPTION:Richard Strauss Streichsextett aus der Oper Capriccio (1941)\nArnold Schönberg »Verklärte Nacht« op. 4\, Streichsextett nach dem gleichnamigen Gedicht von Richard Dehmel (1899)\nJohannes Brahms Streichsextett G-Dur\, op. 36 (1864/65) \nSt.-Jakobi-Kirche Hanstedt \nTickets 15\,- Euro (nur Abendkasse ab 18:30 Uhr)
URL:https://frielinghaus-ensemble.de/event/hanstedt-4/
CATEGORIES:Konzert
END:VEVENT
BEGIN:VEVENT
DTSTART;TZID=Europe/Berlin:20250805T190000
DTEND;TZID=Europe/Berlin:20250805T203000
DTSTAMP:20260420T150735
CREATED:20250612T214321Z
LAST-MODIFIED:20250612T214321Z
UID:610-1754420400-1754425800@frielinghaus-ensemble.de
SUMMARY:Putbus
DESCRIPTION:Marstall | Putbus auf Rügen \nStreichquintette von Boccherini & Schubert \nFrielinghaus Ensemble\nGustav Frielinghaus & Leonard Fu\, Violine | Timon Knötzele\, Viola | Anna Olivia Amaya Ferias & Fabian Sturm\, Violoncello
URL:https://frielinghaus-ensemble.de/event/putbus/
CATEGORIES:Konzert
END:VEVENT
BEGIN:VEVENT
DTSTART;TZID=Europe/Berlin:20250803T170000
DTEND;TZID=Europe/Berlin:20250803T190000
DTSTAMP:20260420T150735
CREATED:20250612T214117Z
LAST-MODIFIED:20250612T214138Z
UID:608-1754240400-1754247600@frielinghaus-ensemble.de
SUMMARY:Barnstedt
DESCRIPTION:Rittergut Barnstedt \nStreichquintette von Boccherini\, Glasunow & Schubert \nFrielinghaus Ensemble\nGustav Frielinghaus & Leonard Fu\, Violine | Timon Knötzele\, Viola | Anna Olivia Amaya Ferias & Fabian Sturm\, Violoncello
URL:https://frielinghaus-ensemble.de/event/barnstedt/
CATEGORIES:Konzert
END:VEVENT
BEGIN:VEVENT
DTSTART;TZID=Europe/Berlin:20250803T113000
DTEND;TZID=Europe/Berlin:20250803T133000
DTSTAMP:20260420T150735
CREATED:20250612T214031Z
LAST-MODIFIED:20250612T214031Z
UID:606-1754220600-1754227800@frielinghaus-ensemble.de
SUMMARY:Hamburg-Hoisdorf
DESCRIPTION:Galerie Jürgensen \nStreichquintette von Boccherini\, Glasunow & Schubert \nFrielinghaus Ensemble\nGustav Frielinghaus & Leonard Fu\, Violine | Timon Knötzele\, Viola | Anna Olivia Amaya Ferias & Fabian Sturm\, Violoncello
URL:https://frielinghaus-ensemble.de/event/hamburg-hoisdorf/
CATEGORIES:Konzert
END:VEVENT
BEGIN:VEVENT
DTSTART;TZID=Europe/Berlin:20250802T180000
DTEND;TZID=Europe/Berlin:20250802T200000
DTSTAMP:20260420T150735
CREATED:20250612T213859Z
LAST-MODIFIED:20250612T213859Z
UID:604-1754157600-1754164800@frielinghaus-ensemble.de
SUMMARY:Kiel-Schilksee
DESCRIPTION:Kulturpark Seekamp \nStreichquintette von Boccherini\, Glasunow & Schubert \nFrielinghaus Ensemble\nGustav Frielinghaus & Leonard Fu\, Violine | Timon Knötzele\, Viola | Anna Olivia Amaya Ferias & Fabian Sturm\, Violoncello
URL:https://frielinghaus-ensemble.de/event/kiel-schilksee/
CATEGORIES:Konzert
END:VEVENT
BEGIN:VEVENT
DTSTART;TZID=Europe/Berlin:20250622T190000
DTEND;TZID=Europe/Berlin:20250622T210000
DTSTAMP:20260420T150735
CREATED:20250612T213556Z
LAST-MODIFIED:20250612T213556Z
UID:602-1750618800-1750626000@frielinghaus-ensemble.de
SUMMARY:Schneverdingen
DESCRIPTION:Atelier de Bruycker \nStreichquintette von Boccherini\, Glasunow & Schubert \nFrielinghaus Ensemble\nGustav Frielinghaus & Lisa Schumann\, Violine | Pietro Montemagni\, Viola | Lionel Martin & Jakob Schall\, Violoncello
URL:https://frielinghaus-ensemble.de/event/schneverdingen/
CATEGORIES:Konzert
END:VEVENT
BEGIN:VEVENT
DTSTART;TZID=Europe/Berlin:20250621T200000
DTEND;TZID=Europe/Berlin:20250621T220000
DTSTAMP:20260420T150735
CREATED:20250612T213254Z
LAST-MODIFIED:20250612T213254Z
UID:598-1750536000-1750543200@frielinghaus-ensemble.de
SUMMARY:Jesteburg
DESCRIPTION:Heimathaus Jesteburg \nStreichquintette von Boccherini\, Glasunow & Schubert \nFrielinghaus Ensemble\nGustav Frielinghaus & Lisa Schumann\, Violine | Pietro Montemagni\, Viola | Lionel Martin & Jakob Schall\, Violoncello
URL:https://frielinghaus-ensemble.de/event/jesteburg-2/
CATEGORIES:Konzert
END:VEVENT
BEGIN:VEVENT
DTSTART;TZID=Europe/Berlin:20250620T190000
DTEND;TZID=Europe/Berlin:20250620T210000
DTSTAMP:20260420T150735
CREATED:20250612T213435Z
LAST-MODIFIED:20250612T213435Z
UID:600-1750446000-1750453200@frielinghaus-ensemble.de
SUMMARY:Lübeck
DESCRIPTION:Haus Eden Lübeck \nStreichquintette von Boccherini\, Glasunow & Schubert \nFrielinghaus Ensemble\nGustav Frielinghaus & Lisa Schumann\, Violine | Pietro Montemagni\, Viola | Lionel Martin & Jakob Schall\, Violoncello
URL:https://frielinghaus-ensemble.de/event/luebeck/
CATEGORIES:Konzert
END:VEVENT
BEGIN:VEVENT
DTSTART;TZID=Europe/Berlin:20250223T170000
DTEND;TZID=Europe/Berlin:20250223T180000
DTSTAMP:20260420T150735
CREATED:20241119T210832Z
LAST-MODIFIED:20241119T211051Z
UID:577-1740330000-1740333600@frielinghaus-ensemble.de
SUMMARY:Bern (CH)
DESCRIPTION:Luigi Boccherini Streichquintett »Ladykillers« E-Dur\, op. 11/5\nFranz Schubert Streichquintett C-Dur\, D 956 \nElfenau Park
URL:https://frielinghaus-ensemble.de/event/bern-ch-2/
CATEGORIES:Konzert
END:VEVENT
BEGIN:VEVENT
DTSTART;TZID=Europe/Berlin:20250222T170000
DTEND;TZID=Europe/Berlin:20250222T180000
DTSTAMP:20260420T150735
CREATED:20241119T210812Z
LAST-MODIFIED:20241119T211103Z
UID:575-1740243600-1740247200@frielinghaus-ensemble.de
SUMMARY:Bern (CH)
DESCRIPTION:Luigi Boccherini Streichquintett »Ladykillers« E-Dur\, op. 11/5\nAlexander Glasunow Streichquintett A-Dur\, op. 39 \nElfenau Park
URL:https://frielinghaus-ensemble.de/event/bern-ch/
CATEGORIES:Konzert
END:VEVENT
BEGIN:VEVENT
DTSTART;TZID=Europe/Berlin:20250221T173000
DTEND;TZID=Europe/Berlin:20250221T183000
DTSTAMP:20260420T150735
CREATED:20241119T210534Z
LAST-MODIFIED:20241119T210534Z
UID:573-1740159000-1740162600@frielinghaus-ensemble.de
SUMMARY:Ittigen (CH)
DESCRIPTION:Luigi Boccherini Streichquintett »Ladykillers« E-Dur\, op. 11/5\nFranz Schubert Streichquintett C-Dur\, D 956 \nTalgut
URL:https://frielinghaus-ensemble.de/event/ittigen-ch/
CATEGORIES:Konzert
END:VEVENT
BEGIN:VEVENT
DTSTART;TZID=Europe/Berlin:20250218T200000
DTEND;TZID=Europe/Berlin:20250218T220000
DTSTAMP:20260420T150735
CREATED:20241119T210211Z
LAST-MODIFIED:20241119T210236Z
UID:570-1739908800-1739916000@frielinghaus-ensemble.de
SUMMARY:La Punt (CH)
DESCRIPTION:Luigi Boccherini Streichquintett »Ladykillers« E-Dur\, op. 11/5\nAlexander Glasunow Streichquintett A-Dur\, op. 39\nFranz Schubert Streichquintett C-Dur\, D 956 \nTirolerkirchlein
URL:https://frielinghaus-ensemble.de/event/la-punt-ch/
CATEGORIES:Konzert
END:VEVENT
BEGIN:VEVENT
DTSTART;TZID=Europe/Berlin:20250216T170000
DTEND;TZID=Europe/Berlin:20250216T190000
DTSTAMP:20260420T150735
CREATED:20241119T210031Z
LAST-MODIFIED:20241119T210031Z
UID:568-1739725200-1739732400@frielinghaus-ensemble.de
SUMMARY:Sent (CH)
DESCRIPTION:Luigi Boccherini Streichquintett »Ladykillers« E-Dur\, op. 11/5\nAlexander Glasunow Streichquintett A-Dur\, op. 39\nFranz Schubert Streichquintett C-Dur\, D 956 \nKirche
URL:https://frielinghaus-ensemble.de/event/sent-ch/
CATEGORIES:Konzert
END:VEVENT
BEGIN:VEVENT
DTSTART;TZID=Europe/Berlin:20250112T160000
DTEND;TZID=Europe/Berlin:20250112T180000
DTSTAMP:20260420T150735
CREATED:20241119T205848Z
LAST-MODIFIED:20241119T205848Z
UID:566-1736697600-1736704800@frielinghaus-ensemble.de
SUMMARY:Hechingen
DESCRIPTION:Luigi Boccherini Streichquintett »Ladykillers« E-Dur\, op. 11/5\nAlexander Glasunow Streichquintett A-Dur\, op. 39\nFranz Schubert Streichquintett C-Dur\, D 956 \nAlte Synagoge
URL:https://frielinghaus-ensemble.de/event/hechingen-3/
CATEGORIES:Konzert
END:VEVENT
BEGIN:VEVENT
DTSTART;TZID=Europe/Berlin:20250111T190000
DTEND;TZID=Europe/Berlin:20250111T210000
DTSTAMP:20260420T150735
CREATED:20241119T205703Z
LAST-MODIFIED:20241119T205703Z
UID:564-1736622000-1736629200@frielinghaus-ensemble.de
SUMMARY:Stuttgart
DESCRIPTION:Luigi Boccherini Streichquintett »Ladykillers« E-Dur\, op. 11/5\nAlexander Glasunow Streichquintett A-Dur\, op. 39\nFranz Schubert Streichquintett C-Dur\, D 956 \nLukaskirche \nEintritt frei\, Spenden erbeten
URL:https://frielinghaus-ensemble.de/event/stuttgart-3/
CATEGORIES:Konzert
END:VEVENT
BEGIN:VEVENT
DTSTART;TZID=Europe/Berlin:20250108T200000
DTEND;TZID=Europe/Berlin:20250108T220000
DTSTAMP:20260420T150735
CREATED:20241119T205036Z
LAST-MODIFIED:20241119T205036Z
UID:562-1736366400-1736373600@frielinghaus-ensemble.de
SUMMARY:Ibbenbüren
DESCRIPTION:Luigi Boccherini Streichquintett »Ladykillers« E-Dur\, op. 11/5\nAlexander Glasunow Streichquintett A-Dur\, op. 39\nFranz Schubert Streichquintett C-Dur\, D 956 \nblick.punkt
URL:https://frielinghaus-ensemble.de/event/ibbenbueren/
CATEGORIES:Konzert
END:VEVENT
BEGIN:VEVENT
DTSTART;TZID=Europe/Berlin:20250107T200000
DTEND;TZID=Europe/Berlin:20250107T220000
DTSTAMP:20260420T150735
CREATED:20241119T204722Z
LAST-MODIFIED:20241119T204722Z
UID:560-1736280000-1736287200@frielinghaus-ensemble.de
SUMMARY:Bremen
DESCRIPTION:Luigi Boccherini Streichquintett »Ladykillers« E-Dur\, op. 11/5\nAlexander Glasunow Streichquintett A-Dur\, op. 39\nFranz Schubert Streichquintett C-Dur\, D 956 \nSendesaal Bremen
URL:https://frielinghaus-ensemble.de/event/bremen-2/
CATEGORIES:Konzert
END:VEVENT
BEGIN:VEVENT
DTSTART;TZID=Europe/Berlin:20250106T193000
DTEND;TZID=Europe/Berlin:20250106T213000
DTSTAMP:20260420T150735
CREATED:20241119T204538Z
LAST-MODIFIED:20241119T204538Z
UID:558-1736191800-1736199000@frielinghaus-ensemble.de
SUMMARY:Hamburg
DESCRIPTION:Luigi Boccherini Streichquintett »Ladykillers« E-Dur\, op. 11/5\nAlexander Glasunow Streichquintett A-Dur\, op. 39\nFranz Schubert Streichquintett C-Dur\, D 956 \nElbphilharmonie Hamburg (kl. Saal) \n(geschlossene Veranstaltung von InKultur Hamburg)
URL:https://frielinghaus-ensemble.de/event/hamburg-5/
CATEGORIES:Konzert
END:VEVENT
END:VCALENDAR